BEGIN:VCALENDAR
VERSION:2.0
PRODID:-//tahlequahhabitat.org//NONSGML kigkonsult.se iCalcreator 2.30.10//
CALSCALE:GREGORIAN
METHOD:PUBLISH
UID:edb38d45-a844-4483-a4cf-85dad2224401
X-WR-CALDESC:
X-WR-RELCALID:5f463d350660e5d29ae96246b9eef015
X-WR-TIMEZONE:America/Chicago
BEGIN:VTIMEZONE
TZID:America/Chicago
BEGIN:STANDARD
TZNAME:CST
DTSTART:20231105T020000
TZOFFSETFROM:-0500
TZOFFSETTO:-0600
RDATE:20241103T020000
END:STANDARD
BEGIN:DAYLIGHT
TZNAME:CDT
DTSTART:20230312T020000
TZOFFSETFROM:-0600
TZOFFSETTO:-0500
RDATE:20240310T020000
RDATE:20250309T020000
END:DAYLIGHT
END:VTIMEZONE
BEGIN:VEVENT
UID:e97d2f22-f77b-488e-a196-048501381d88
DTSTAMP:20260422T225858Z
DESCRIPTION:
DTSTART;TZID=America/Chicago:20231225T050000
DTEND;TZID=America/Chicago:20231225T050001
LOCATION:
SUMMARY:Offices and Stores Closed
END:VEVENT
END:VCALENDAR
