BEGIN:VCALENDAR
VERSION:2.0
PRODID:-//tahlequahhabitat.org//NONSGML kigkonsult.se iCalcreator 2.30.10//
CALSCALE:GREGORIAN
METHOD:PUBLISH
UID:b6877a8a-e318-48b6-a121-3d0a07d98994
X-WR-CALDESC:
X-WR-RELCALID:0e3ce98a41d0c5bc61155378aa2f237a
X-WR-TIMEZONE:America/Chicago
BEGIN:VTIMEZONE
TZID:America/Chicago
BEGIN:STANDARD
TZNAME:CST
DTSTART:20231105T020000
TZOFFSETFROM:-0500
TZOFFSETTO:-0600
RDATE:20241103T020000
END:STANDARD
BEGIN:DAYLIGHT
TZNAME:CDT
DTSTART:20230312T020000
TZOFFSETFROM:-0600
TZOFFSETTO:-0500
RDATE:20240310T020000
RDATE:20250309T020000
END:DAYLIGHT
END:VTIMEZONE
BEGIN:VEVENT
UID:e6c6d6cb-e4c1-43e7-92ff-f8272d01ed34
DTSTAMP:20260422T210631Z
DESCRIPTION:
DTSTART;TZID=America/Chicago:20240120T050000
DTEND;TZID=America/Chicago:20240120T050001
LOCATION:
SUMMARY:34th Habitat House Groundbreaking
END:VEVENT
END:VCALENDAR
