BEGIN:VCALENDAR
VERSION:2.0
PRODID:-//tahlequahhabitat.org//NONSGML kigkonsult.se iCalcreator 2.30.10//
CALSCALE:GREGORIAN
METHOD:PUBLISH
UID:b51e6ad2-75f9-4639-868e-e2fd1373eb2c
X-WR-CALDESC:
X-WR-RELCALID:cfbc81d5cd83cdc23e80049ef6e67baa
X-WR-TIMEZONE:America/Chicago
BEGIN:VTIMEZONE
TZID:America/Chicago
BEGIN:STANDARD
TZNAME:CST
DTSTART:20231105T020000
TZOFFSETFROM:-0500
TZOFFSETTO:-0600
RDATE:20241103T020000
END:STANDARD
BEGIN:DAYLIGHT
TZNAME:CDT
DTSTART:20230312T020000
TZOFFSETFROM:-0600
TZOFFSETTO:-0500
RDATE:20240310T020000
RDATE:20250309T020000
END:DAYLIGHT
END:VTIMEZONE
BEGIN:VEVENT
UID:7b022e03-99d2-4d6e-9e86-8bd02dcb1e1e
DTSTAMP:20260422T211656Z
DESCRIPTION:
DTSTART;TZID=America/Chicago:20240124T050000
DTEND;TZID=America/Chicago:20240124T050001
LOCATION:
SUMMARY:50% Off at the ReStore Home Improvement Store
END:VEVENT
END:VCALENDAR
