BEGIN:VCALENDAR
VERSION:2.0
PRODID:-//tahlequahhabitat.org//NONSGML kigkonsult.se iCalcreator 2.30.10//
CALSCALE:GREGORIAN
METHOD:PUBLISH
UID:45aa2ba8-928b-4636-96dc-613b4f54bdac
X-WR-CALDESC:
X-WR-RELCALID:66cf65a174026a1b5d8791879e4df26c
X-WR-TIMEZONE:America/Chicago
BEGIN:VTIMEZONE
TZID:America/Chicago
BEGIN:STANDARD
TZNAME:CST
DTSTART:20231105T020000
TZOFFSETFROM:-0500
TZOFFSETTO:-0600
RDATE:20241103T020000
END:STANDARD
BEGIN:DAYLIGHT
TZNAME:CDT
DTSTART:20230312T020000
TZOFFSETFROM:-0600
TZOFFSETTO:-0500
RDATE:20240310T020000
RDATE:20250309T020000
END:DAYLIGHT
END:VTIMEZONE
BEGIN:VEVENT
UID:382bd97d-4993-4617-8fba-0314bd170fc3
DTSTAMP:20260424T084031Z
DESCRIPTION:
DTSTART;TZID=America/Chicago:20240207T050000
DTEND;TZID=America/Chicago:20240207T050001
LOCATION:
SUMMARY:50% Off at the ReStore Home Improvement Store
END:VEVENT
END:VCALENDAR
