BEGIN:VCALENDAR
VERSION:2.0
PRODID:-//tahlequahhabitat.org//NONSGML kigkonsult.se iCalcreator 2.30.10//
CALSCALE:GREGORIAN
METHOD:PUBLISH
UID:5a819fb9-a36d-4fb5-824c-245183f75e70
X-WR-CALDESC:
X-WR-RELCALID:3756b58853a99faa526be4cdf2ed26e1
X-WR-TIMEZONE:America/Chicago
BEGIN:VTIMEZONE
TZID:America/Chicago
BEGIN:STANDARD
TZNAME:CST
DTSTART:20231105T020000
TZOFFSETFROM:-0500
TZOFFSETTO:-0600
RDATE:20241103T020000
END:STANDARD
BEGIN:DAYLIGHT
TZNAME:CDT
DTSTART:20230312T020000
TZOFFSETFROM:-0600
TZOFFSETTO:-0500
RDATE:20240310T020000
RDATE:20250309T020000
END:DAYLIGHT
END:VTIMEZONE
BEGIN:VEVENT
UID:6fe4a4a9-2416-4cc8-a177-ee80bdc0c1e9
DTSTAMP:20260422T195242Z
DESCRIPTION:
DTSTART;TZID=America/Chicago:20240217T163000
DTEND;TZID=America/Chicago:20240217T183000
LOCATION:17165 W Mud Valley Road\, Tahlequah\, OK 74464 US
SUMMARY:Galentine's Make and Take Workshop
END:VEVENT
END:VCALENDAR
