BEGIN:VCALENDAR
VERSION:2.0
PRODID:-//tahlequahhabitat.org//NONSGML kigkonsult.se iCalcreator 2.30.10//
CALSCALE:GREGORIAN
METHOD:PUBLISH
UID:9918f4b7-36ab-4f01-ab60-a5988444ae59
X-WR-CALDESC:
X-WR-RELCALID:f771541b0dae1ba774b4413623059277
X-WR-TIMEZONE:America/Chicago
BEGIN:VTIMEZONE
TZID:America/Chicago
BEGIN:STANDARD
TZNAME:CST
DTSTART:20231105T020000
TZOFFSETFROM:-0500
TZOFFSETTO:-0600
RDATE:20241103T020000
END:STANDARD
BEGIN:DAYLIGHT
TZNAME:CDT
DTSTART:20230312T020000
TZOFFSETFROM:-0600
TZOFFSETTO:-0500
RDATE:20240310T020000
RDATE:20250309T020000
END:DAYLIGHT
END:VTIMEZONE
BEGIN:VEVENT
UID:ee7b54ca-211c-4eff-8392-d7023468de6b
DTSTAMP:20260422T180155Z
DESCRIPTION:
DTSTART;TZID=America/Chicago:20240304T050000
DTEND;TZID=America/Chicago:20240304T050001
LOCATION:
SUMMARY:50% Off at the ReStore Rack
END:VEVENT
END:VCALENDAR
