BEGIN:VCALENDAR
VERSION:2.0
PRODID:-//tahlequahhabitat.org//NONSGML kigkonsult.se iCalcreator 2.30.10//
CALSCALE:GREGORIAN
METHOD:PUBLISH
UID:4ec8ac62-4bee-406a-8c0f-7aaa57f05e78
X-WR-CALDESC:
X-WR-RELCALID:9c654910e7e4ece2f4a477245a29c7ea
X-WR-TIMEZONE:America/Chicago
BEGIN:VTIMEZONE
TZID:America/Chicago
BEGIN:STANDARD
TZNAME:CST
DTSTART:20231105T020000
TZOFFSETFROM:-0500
TZOFFSETTO:-0600
RDATE:20241103T020000
END:STANDARD
BEGIN:DAYLIGHT
TZNAME:CDT
DTSTART:20230312T020000
TZOFFSETFROM:-0600
TZOFFSETTO:-0500
RDATE:20240310T020000
RDATE:20250309T020000
END:DAYLIGHT
END:VTIMEZONE
BEGIN:VEVENT
UID:8c5d61b8-72c1-4e7f-8605-23e817432fbb
DTSTAMP:20260422T180128Z
DESCRIPTION:
DTSTART;TZID=America/Chicago:20240305T050000
DTEND;TZID=America/Chicago:20240305T050001
LOCATION:1813 North Vinita Avenue\, Tahlequah\, OK 74464 US
SUMMARY:Construction Begins Today on House #34
END:VEVENT
END:VCALENDAR
