BEGIN:VCALENDAR
VERSION:2.0
PRODID:-//tahlequahhabitat.org//NONSGML kigkonsult.se iCalcreator 2.30.10//
CALSCALE:GREGORIAN
METHOD:PUBLISH
UID:172070ba-d85c-4896-b3cc-3770b688a749
X-WR-CALDESC:
X-WR-RELCALID:9b991f2cd005bfd095a6ee607da2d676
X-WR-TIMEZONE:America/Chicago
BEGIN:VTIMEZONE
TZID:America/Chicago
BEGIN:STANDARD
TZNAME:CST
DTSTART:20231105T020000
TZOFFSETFROM:-0500
TZOFFSETTO:-0600
RDATE:20241103T020000
END:STANDARD
BEGIN:DAYLIGHT
TZNAME:CDT
DTSTART:20230312T020000
TZOFFSETFROM:-0600
TZOFFSETTO:-0500
RDATE:20240310T020000
RDATE:20250309T020000
END:DAYLIGHT
END:VTIMEZONE
BEGIN:VEVENT
UID:b265c73b-2bad-4b1a-a265-989e8fc50f23
DTSTAMP:20260422T180135Z
DESCRIPTION:
DTSTART;TZID=America/Chicago:20240305T170000
DTEND;TZID=America/Chicago:20240305T200000
LOCATION:
SUMMARY:ReStore Rack 'Late Night Shop'\, 5-8 pm
END:VEVENT
END:VCALENDAR
