BEGIN:VCALENDAR
VERSION:2.0
PRODID:-//tahlequahhabitat.org//NONSGML kigkonsult.se iCalcreator 2.30.10//
CALSCALE:GREGORIAN
METHOD:PUBLISH
UID:b23a8c05-b2f2-4482-ae97-e36b41c7f424
X-WR-CALDESC:
X-WR-RELCALID:8094cfd6399c3f88977f96aca9a0117e
X-WR-TIMEZONE:America/Chicago
BEGIN:VTIMEZONE
TZID:America/Chicago
BEGIN:STANDARD
TZNAME:CST
DTSTART:20231105T020000
TZOFFSETFROM:-0500
TZOFFSETTO:-0600
RDATE:20241103T020000
END:STANDARD
BEGIN:DAYLIGHT
TZNAME:CDT
DTSTART:20240310T020000
TZOFFSETFROM:-0600
TZOFFSETTO:-0500
RDATE:20250309T020000
END:DAYLIGHT
END:VTIMEZONE
BEGIN:VEVENT
UID:8958125b-6042-49f6-94df-2b7852ac3ac1
DTSTAMP:20260422T180135Z
DESCRIPTION:
DTSTART;TZID=America/Chicago:20240316T050000
DTEND;TZID=America/Chicago:20240316T050001
LOCATION:
SUMMARY:Women Build Event 2024
END:VEVENT
END:VCALENDAR
