BEGIN:VCALENDAR
VERSION:2.0
PRODID:-//tahlequahhabitat.org//NONSGML kigkonsult.se iCalcreator 2.30.10//
CALSCALE:GREGORIAN
METHOD:PUBLISH
UID:7bbf51da-94f9-4776-b04d-f17843e38edc
X-WR-CALDESC:
X-WR-RELCALID:e6f4557d5b56c882ced2746df5c4076d
X-WR-TIMEZONE:America/Chicago
BEGIN:VTIMEZONE
TZID:America/Chicago
BEGIN:STANDARD
TZNAME:CST
DTSTART:20231105T020000
TZOFFSETFROM:-0500
TZOFFSETTO:-0600
RDATE:20241103T020000
END:STANDARD
BEGIN:DAYLIGHT
TZNAME:CDT
DTSTART:20240310T020000
TZOFFSETFROM:-0600
TZOFFSETTO:-0500
RDATE:20250309T020000
END:DAYLIGHT
END:VTIMEZONE
BEGIN:VEVENT
UID:4a4ac1d2-54b4-403e-a8a6-c989d005ee4c
DTSTAMP:20260422T160145Z
DESCRIPTION:
DTSTART;TZID=America/Chicago:20240401T050000
DTEND;TZID=America/Chicago:20240406T050001
LOCATION:
SUMMARY:Rack Birthday Celebration Sale\, April 1-6
END:VEVENT
END:VCALENDAR
