BEGIN:VCALENDAR
VERSION:2.0
PRODID:-//tahlequahhabitat.org//NONSGML kigkonsult.se iCalcreator 2.30.10//
CALSCALE:GREGORIAN
METHOD:PUBLISH
UID:7a884626-e24f-4f6c-9f1d-c3d3958e6327
X-WR-CALDESC:
X-WR-RELCALID:884844cdd3f82374187935074bb9660e
X-WR-TIMEZONE:America/Chicago
BEGIN:VTIMEZONE
TZID:America/Chicago
BEGIN:STANDARD
TZNAME:CST
DTSTART:20231105T020000
TZOFFSETFROM:-0500
TZOFFSETTO:-0600
RDATE:20241103T020000
END:STANDARD
BEGIN:DAYLIGHT
TZNAME:CDT
DTSTART:20240310T020000
TZOFFSETFROM:-0600
TZOFFSETTO:-0500
RDATE:20250309T020000
END:DAYLIGHT
END:VTIMEZONE
BEGIN:VEVENT
UID:270aef3f-9959-44f1-b9a1-3e92b5e59a04
DTSTAMP:20260422T160622Z
DESCRIPTION:
DTSTART;TZID=America/Chicago:20240415T050000
DTEND;TZID=America/Chicago:20240415T050001
LOCATION:
SUMMARY:50% Off at the ReStore Rack
END:VEVENT
END:VCALENDAR
