BEGIN:VCALENDAR
VERSION:2.0
PRODID:-//tahlequahhabitat.org//NONSGML kigkonsult.se iCalcreator 2.30.10//
CALSCALE:GREGORIAN
METHOD:PUBLISH
UID:077c04e4-820a-477d-8d67-c7bb7d139cd2
X-WR-CALDESC:
X-WR-RELCALID:14b08aa39f23582fec70896d3bed85aa
X-WR-TIMEZONE:America/Chicago
BEGIN:VTIMEZONE
TZID:America/Chicago
BEGIN:STANDARD
TZNAME:CST
DTSTART:20231105T020000
TZOFFSETFROM:-0500
TZOFFSETTO:-0600
RDATE:20241103T020000
END:STANDARD
BEGIN:DAYLIGHT
TZNAME:CDT
DTSTART:20240310T020000
TZOFFSETFROM:-0600
TZOFFSETTO:-0500
RDATE:20250309T020000
END:DAYLIGHT
END:VTIMEZONE
BEGIN:VEVENT
UID:37bb6658-72be-47fa-b567-5c0eabdf257c
DTSTAMP:20260422T142030Z
DESCRIPTION:
DTSTART;TZID=America/Chicago:20240501T050000
DTEND;TZID=America/Chicago:20240501T050001
LOCATION:
SUMMARY:50% Off at the ReStore Home Improvement Store
END:VEVENT
END:VCALENDAR
