BEGIN:VCALENDAR
VERSION:2.0
PRODID:-//tahlequahhabitat.org//NONSGML kigkonsult.se iCalcreator 2.30.10//
CALSCALE:GREGORIAN
METHOD:PUBLISH
UID:e5239deb-ba56-4638-84fd-4b34aa64e84a
X-WR-CALDESC:
X-WR-RELCALID:d5e01e83bcd0322e8d3e4d42148b533a
X-WR-TIMEZONE:America/Chicago
BEGIN:VTIMEZONE
TZID:America/Chicago
BEGIN:STANDARD
TZNAME:CST
DTSTART:20231105T020000
TZOFFSETFROM:-0500
TZOFFSETTO:-0600
RDATE:20241103T020000
RDATE:20251102T020000
END:STANDARD
BEGIN:DAYLIGHT
TZNAME:CDT
DTSTART:20240310T020000
TZOFFSETFROM:-0600
TZOFFSETTO:-0500
RDATE:20250309T020000
END:DAYLIGHT
END:VTIMEZONE
BEGIN:VEVENT
UID:fd8fea17-cc07-45df-b1f8-57298c30c3ba
DTSTAMP:20260422T123647Z
DESCRIPTION:
DTSTART;TZID=America/Chicago:20240613T050000
DTEND;TZID=America/Chicago:20240615T050001
LOCATION:
SUMMARY:Help Build House #34
END:VEVENT
END:VCALENDAR
