BEGIN:VCALENDAR
VERSION:2.0
PRODID:-//tahlequahhabitat.org//NONSGML kigkonsult.se iCalcreator 2.30.10//
CALSCALE:GREGORIAN
METHOD:PUBLISH
UID:57290d94-536a-4d84-97ed-9d4ab9ebb7ff
X-WR-CALDESC:
X-WR-RELCALID:ca6cfb54e3458e4d0677234db2077edb
X-WR-TIMEZONE:America/Chicago
BEGIN:VTIMEZONE
TZID:America/Chicago
BEGIN:STANDARD
TZNAME:CST
DTSTART:20231105T020000
TZOFFSETFROM:-0500
TZOFFSETTO:-0600
RDATE:20241103T020000
RDATE:20251102T020000
END:STANDARD
BEGIN:DAYLIGHT
TZNAME:CDT
DTSTART:20240310T020000
TZOFFSETFROM:-0600
TZOFFSETTO:-0500
RDATE:20250309T020000
END:DAYLIGHT
END:VTIMEZONE
BEGIN:VEVENT
UID:811df4d6-2078-41aa-be9f-6bf2d0b46586
DTSTAMP:20260422T124820Z
DESCRIPTION:
DTSTART;TZID=America/Chicago:20240619T050000
DTEND;TZID=America/Chicago:20240619T050001
LOCATION:
SUMMARY:50% Off at the ReStore Rack
END:VEVENT
END:VCALENDAR
