BEGIN:VCALENDAR
VERSION:2.0
PRODID:-//tahlequahhabitat.org//NONSGML kigkonsult.se iCalcreator 2.30.10//
CALSCALE:GREGORIAN
METHOD:PUBLISH
UID:4143e10e-38c6-4290-ad20-236d8a87a19f
X-WR-CALDESC:
X-WR-RELCALID:fe8972aba6b66ec5112d7bfe74e3d075
X-WR-TIMEZONE:America/Chicago
BEGIN:VTIMEZONE
TZID:America/Chicago
BEGIN:STANDARD
TZNAME:CST
DTSTART:20231105T020000
TZOFFSETFROM:-0500
TZOFFSETTO:-0600
RDATE:20241103T020000
RDATE:20251102T020000
END:STANDARD
BEGIN:DAYLIGHT
TZNAME:CDT
DTSTART:20240310T020000
TZOFFSETFROM:-0600
TZOFFSETTO:-0500
RDATE:20250309T020000
END:DAYLIGHT
END:VTIMEZONE
BEGIN:VEVENT
UID:9eb8a863-da8c-42af-bda5-e05b142872a4
DTSTAMP:20260422T124457Z
DESCRIPTION:
DTSTART;TZID=America/Chicago:20240626T050000
DTEND;TZID=America/Chicago:20240626T050001
LOCATION:
SUMMARY:50% Off at the ReStore Home Improvement Store
END:VEVENT
END:VCALENDAR
