BEGIN:VCALENDAR
VERSION:2.0
PRODID:-//tahlequahhabitat.org//NONSGML kigkonsult.se iCalcreator 2.30.10//
CALSCALE:GREGORIAN
METHOD:PUBLISH
UID:7e4f9ea5-e4a7-48fe-ae5b-534d2f4e7ce1
X-WR-CALDESC:
X-WR-RELCALID:0a7b4384af6d6e85ed178f50ef7202a8
X-WR-TIMEZONE:America/Chicago
BEGIN:VTIMEZONE
TZID:America/Chicago
BEGIN:STANDARD
TZNAME:CST
DTSTART:20231105T020000
TZOFFSETFROM:-0500
TZOFFSETTO:-0600
RDATE:20241103T020000
RDATE:20251102T020000
END:STANDARD
BEGIN:DAYLIGHT
TZNAME:CDT
DTSTART:20240310T020000
TZOFFSETFROM:-0600
TZOFFSETTO:-0500
RDATE:20250309T020000
END:DAYLIGHT
END:VTIMEZONE
BEGIN:VEVENT
UID:98f5b1d7-25ff-48ef-af81-d875dc0a7828
DTSTAMP:20260422T123935Z
DESCRIPTION:
DTSTART;TZID=America/Chicago:20240626T050000
DTEND;TZID=America/Chicago:20240626T050001
LOCATION:
SUMMARY:50% Off at the ReStore Rack
END:VEVENT
END:VCALENDAR
