BEGIN:VCALENDAR
VERSION:2.0
PRODID:-//tahlequahhabitat.org//NONSGML kigkonsult.se iCalcreator 2.30.10//
CALSCALE:GREGORIAN
METHOD:PUBLISH
UID:2507f570-f0ad-45f8-89c9-b559df091245
X-WR-CALDESC:
X-WR-RELCALID:4176fad1389b5b6ae2ef3b80e8b582ee
X-WR-TIMEZONE:America/Chicago
BEGIN:VTIMEZONE
TZID:America/Chicago
BEGIN:STANDARD
TZNAME:CST
DTSTART:20231105T020000
TZOFFSETFROM:-0500
TZOFFSETTO:-0600
RDATE:20241103T020000
RDATE:20251102T020000
END:STANDARD
BEGIN:DAYLIGHT
TZNAME:CDT
DTSTART:20240310T020000
TZOFFSETFROM:-0600
TZOFFSETTO:-0500
RDATE:20250309T020000
END:DAYLIGHT
END:VTIMEZONE
BEGIN:VEVENT
UID:c01b7fde-461f-4c5c-a8ca-7668cfd09dc3
DTSTAMP:20260422T123124Z
DESCRIPTION:
DTSTART;TZID=America/Chicago:20240626T050000
DTEND;TZID=America/Chicago:20240626T050001
LOCATION:
SUMMARY:Help Build House #34
END:VEVENT
END:VCALENDAR
