BEGIN:VCALENDAR
VERSION:2.0
PRODID:-//tahlequahhabitat.org//NONSGML kigkonsult.se iCalcreator 2.30.10//
CALSCALE:GREGORIAN
METHOD:PUBLISH
UID:41bf62d1-d6a5-4e8e-a647-5d67b2f59832
X-WR-CALDESC:
X-WR-RELCALID:200c6875b1f90513f22b1e4a23864219
X-WR-TIMEZONE:America/Chicago
BEGIN:VTIMEZONE
TZID:America/Chicago
BEGIN:STANDARD
TZNAME:CST
DTSTART:20231105T020000
TZOFFSETFROM:-0500
TZOFFSETTO:-0600
RDATE:20241103T020000
RDATE:20251102T020000
END:STANDARD
BEGIN:DAYLIGHT
TZNAME:CDT
DTSTART:20240310T020000
TZOFFSETFROM:-0600
TZOFFSETTO:-0500
RDATE:20250309T020000
END:DAYLIGHT
END:VTIMEZONE
BEGIN:VEVENT
UID:bf0a76f3-4d71-4b5a-9f3b-58ed14df6876
DTSTAMP:20260422T110210Z
DESCRIPTION:
DTSTART;TZID=America/Chicago:20240701T050000
DTEND;TZID=America/Chicago:20240701T050001
LOCATION:
SUMMARY:50% Off at the ReStore Rack
END:VEVENT
END:VCALENDAR
