BEGIN:VCALENDAR
VERSION:2.0
PRODID:-//tahlequahhabitat.org//NONSGML kigkonsult.se iCalcreator 2.30.10//
CALSCALE:GREGORIAN
METHOD:PUBLISH
UID:af02b03e-fb6c-4418-a82f-75d4eb51b20b
X-WR-CALDESC:
X-WR-RELCALID:59c1f8c371ee749c1ae08af282dd551a
X-WR-TIMEZONE:America/Chicago
BEGIN:VTIMEZONE
TZID:America/Chicago
BEGIN:STANDARD
TZNAME:CST
DTSTART:20231105T020000
TZOFFSETFROM:-0500
TZOFFSETTO:-0600
RDATE:20241103T020000
RDATE:20251102T020000
END:STANDARD
BEGIN:DAYLIGHT
TZNAME:CDT
DTSTART:20240310T020000
TZOFFSETFROM:-0600
TZOFFSETTO:-0500
RDATE:20250309T020000
END:DAYLIGHT
END:VTIMEZONE
BEGIN:VEVENT
UID:1efac51c-f937-49b4-b9b7-ee5df2646f4c
DTSTAMP:20260422T110112Z
DESCRIPTION:
DTSTART;TZID=America/Chicago:20240703T050000
DTEND;TZID=America/Chicago:20240703T050001
LOCATION:
SUMMARY:50% Off at the ReStore Home Improvement Store
END:VEVENT
END:VCALENDAR
