BEGIN:VCALENDAR
VERSION:2.0
PRODID:-//tahlequahhabitat.org//NONSGML kigkonsult.se iCalcreator 2.30.10//
CALSCALE:GREGORIAN
METHOD:PUBLISH
UID:80b7eef8-792d-47aa-a44b-6afbd1d470e8
X-WR-CALDESC:
X-WR-RELCALID:5b867198bb223ed09f06af2b7032b143
X-WR-TIMEZONE:America/Chicago
BEGIN:VTIMEZONE
TZID:America/Chicago
BEGIN:STANDARD
TZNAME:CST
DTSTART:20231105T020000
TZOFFSETFROM:-0500
TZOFFSETTO:-0600
RDATE:20241103T020000
RDATE:20251102T020000
END:STANDARD
BEGIN:DAYLIGHT
TZNAME:CDT
DTSTART:20240310T020000
TZOFFSETFROM:-0600
TZOFFSETTO:-0500
RDATE:20250309T020000
END:DAYLIGHT
END:VTIMEZONE
BEGIN:VEVENT
UID:64c85c01-2ace-48d5-9149-91ca4ffb0dce
DTSTAMP:20260422T110004Z
DESCRIPTION:
DTSTART;TZID=America/Chicago:20240713T120000
DTEND;TZID=America/Chicago:20240713T140000
LOCATION:Tahlequah Public Library\, 120 South College Ave.\, Tahlequah\, OK
  74464 US
SUMMARY:Youth Lego Build Competition
END:VEVENT
END:VCALENDAR
