BEGIN:VCALENDAR
VERSION:2.0
PRODID:-//tahlequahhabitat.org//NONSGML kigkonsult.se iCalcreator 2.30.10//
CALSCALE:GREGORIAN
METHOD:PUBLISH
UID:8b3a8909-054e-4c50-8107-457c7dfabdf6
X-WR-CALDESC:
X-WR-RELCALID:08539d258e6a8aff5d35efc88267d57a
X-WR-TIMEZONE:America/Chicago
BEGIN:VTIMEZONE
TZID:America/Chicago
BEGIN:STANDARD
TZNAME:CST
DTSTART:20231105T020000
TZOFFSETFROM:-0500
TZOFFSETTO:-0600
RDATE:20241103T020000
RDATE:20251102T020000
END:STANDARD
BEGIN:DAYLIGHT
TZNAME:CDT
DTSTART:20240310T020000
TZOFFSETFROM:-0600
TZOFFSETTO:-0500
RDATE:20250309T020000
END:DAYLIGHT
END:VTIMEZONE
BEGIN:VEVENT
UID:02d763f1-1e9d-4175-a9e0-3339a9d92a3f
DTSTAMP:20260422T092446Z
DESCRIPTION:
DTSTART;TZID=America/Chicago:20240805T050000
DTEND;TZID=America/Chicago:20240810T050001
LOCATION:
SUMMARY:ReStore Rack Back to School Sale (Clone)
END:VEVENT
END:VCALENDAR
