BEGIN:VCALENDAR
VERSION:2.0
PRODID:-//tahlequahhabitat.org//NONSGML kigkonsult.se iCalcreator 2.30.10//
CALSCALE:GREGORIAN
METHOD:PUBLISH
UID:2398b34d-4290-417b-b7d2-4c4739407ce7
X-WR-CALDESC:
X-WR-RELCALID:82a914396adad1974b3d880ecbe9f962
X-WR-TIMEZONE:America/Chicago
BEGIN:VTIMEZONE
TZID:America/Chicago
BEGIN:STANDARD
TZNAME:CST
DTSTART:20231105T020000
TZOFFSETFROM:-0500
TZOFFSETTO:-0600
RDATE:20241103T020000
RDATE:20251102T020000
END:STANDARD
BEGIN:DAYLIGHT
TZNAME:CDT
DTSTART:20240310T020000
TZOFFSETFROM:-0600
TZOFFSETTO:-0500
RDATE:20250309T020000
END:DAYLIGHT
END:VTIMEZONE
BEGIN:VEVENT
UID:d3b56e67-f759-44b3-b295-f44a2a4d13b8
DTSTAMP:20260422T092739Z
DESCRIPTION:
DTSTART;TZID=America/Chicago:20240808T050000
DTEND;TZID=America/Chicago:20240808T050001
LOCATION:
SUMMARY:ReStore Rack Adventure Headstart Day
END:VEVENT
END:VCALENDAR
