BEGIN:VCALENDAR
VERSION:2.0
PRODID:-//tahlequahhabitat.org//NONSGML kigkonsult.se iCalcreator 2.30.10//
CALSCALE:GREGORIAN
METHOD:PUBLISH
UID:58306dcf-3805-4666-9b70-0017fd71dd65
X-WR-CALDESC:
X-WR-RELCALID:f452f64c10fa5632fc3b04f0d14dff1e
X-WR-TIMEZONE:America/Chicago
BEGIN:VTIMEZONE
TZID:America/Chicago
BEGIN:STANDARD
TZNAME:CST
DTSTART:20231105T020000
TZOFFSETFROM:-0500
TZOFFSETTO:-0600
RDATE:20241103T020000
RDATE:20251102T020000
END:STANDARD
BEGIN:DAYLIGHT
TZNAME:CDT
DTSTART:20240310T020000
TZOFFSETFROM:-0600
TZOFFSETTO:-0500
RDATE:20250309T020000
END:DAYLIGHT
END:VTIMEZONE
BEGIN:VEVENT
UID:5b57781d-981d-4a93-858f-8dd22cc32c50
DTSTAMP:20260422T092052Z
DESCRIPTION:
DTSTART;TZID=America/Chicago:20240830T050000
DTEND;TZID=America/Chicago:20240831T050001
LOCATION:ReStore Rack\, 198 West First Street\, Tahlequah\, OK 74464 US
SUMMARY:ReStore Rack Labor Day Weekend Sale
END:VEVENT
END:VCALENDAR
