BEGIN:VCALENDAR
VERSION:2.0
PRODID:-//tahlequahhabitat.org//NONSGML kigkonsult.se iCalcreator 2.30.10//
CALSCALE:GREGORIAN
METHOD:PUBLISH
UID:8d02b564-4a17-4ec9-b3ed-c4cf206c1f02
X-WR-CALDESC:
X-WR-RELCALID:dac0366a03e4856f76e8833f6c72f6e5
X-WR-TIMEZONE:America/Chicago
BEGIN:VTIMEZONE
TZID:America/Chicago
BEGIN:STANDARD
TZNAME:CST
DTSTART:20231105T020000
TZOFFSETFROM:-0500
TZOFFSETTO:-0600
RDATE:20241103T020000
RDATE:20251102T020000
END:STANDARD
BEGIN:DAYLIGHT
TZNAME:CDT
DTSTART:20240310T020000
TZOFFSETFROM:-0600
TZOFFSETTO:-0500
RDATE:20250309T020000
RDATE:20260308T020000
END:DAYLIGHT
END:VTIMEZONE
BEGIN:VEVENT
UID:958f7b48-9bc5-430d-8ba7-5c6f1f534ac1
DTSTAMP:20260422T054512Z
DESCRIPTION:
DTSTART;TZID=America/Chicago:20241004T100000
DTEND;TZID=America/Chicago:20241004T120000
LOCATION:Habitat for Humanity Conference Room\, 816 South College Avenue\, 
 Tahlequah\, OK 74464 US
SUMMARY:Free Financial Literacy Class
END:VEVENT
END:VCALENDAR
