BEGIN:VCALENDAR
VERSION:2.0
PRODID:-//tahlequahhabitat.org//NONSGML kigkonsult.se iCalcreator 2.30.10//
CALSCALE:GREGORIAN
METHOD:PUBLISH
UID:657eadf1-a681-479a-8d63-1c7b4ffb569b
X-WR-CALDESC:
X-WR-RELCALID:085002faf5447840b38b2845c300f20b
X-WR-TIMEZONE:America/Chicago
BEGIN:VTIMEZONE
TZID:America/Chicago
BEGIN:STANDARD
TZNAME:CST
DTSTART:20231105T020000
TZOFFSETFROM:-0500
TZOFFSETTO:-0600
RDATE:20241103T020000
RDATE:20251102T020000
END:STANDARD
BEGIN:DAYLIGHT
TZNAME:CDT
DTSTART:20240310T020000
TZOFFSETFROM:-0600
TZOFFSETTO:-0500
RDATE:20250309T020000
RDATE:20260308T020000
END:DAYLIGHT
END:VTIMEZONE
BEGIN:VEVENT
UID:e31744a9-9cab-45d4-b91d-3e4d8c8bba04
DTSTAMP:20260422T053247Z
DESCRIPTION:
DTSTART;TZID=America/Chicago:20241011T100000
DTEND;TZID=America/Chicago:20241011T120000
LOCATION:Habitat for Humanity Conference Room\, 816 South College Avenue\, 
 Tahlequah\, OK 74464 US
SUMMARY:Free Financial Literacy Class
END:VEVENT
END:VCALENDAR
