BEGIN:VCALENDAR
VERSION:2.0
PRODID:-//tahlequahhabitat.org//NONSGML kigkonsult.se iCalcreator 2.30.10//
CALSCALE:GREGORIAN
METHOD:PUBLISH
UID:9456ece0-99f2-4faf-9ecf-e07d6c553221
X-WR-CALDESC:
X-WR-RELCALID:5e5f4be6eacb75d33fe2e049b0b7c660
X-WR-TIMEZONE:America/Chicago
BEGIN:VTIMEZONE
TZID:America/Chicago
BEGIN:STANDARD
TZNAME:CST
DTSTART:20231105T020000
TZOFFSETFROM:-0500
TZOFFSETTO:-0600
RDATE:20241103T020000
RDATE:20251102T020000
END:STANDARD
BEGIN:DAYLIGHT
TZNAME:CDT
DTSTART:20240310T020000
TZOFFSETFROM:-0600
TZOFFSETTO:-0500
RDATE:20250309T020000
RDATE:20260308T020000
END:DAYLIGHT
END:VTIMEZONE
BEGIN:VEVENT
UID:251292e7-4c7a-44e2-aef1-3ea609e18be1
DTSTAMP:20260422T054640Z
DESCRIPTION:
DTSTART;TZID=America/Chicago:20241021T050000
DTEND;TZID=America/Chicago:20241025T050001
LOCATION:1217 West Keetoowah\, Tahlequah\, OK 74464 US
SUMMARY:Construction of House #35
END:VEVENT
END:VCALENDAR
