BEGIN:VCALENDAR
VERSION:2.0
PRODID:-//tahlequahhabitat.org//NONSGML kigkonsult.se iCalcreator 2.30.10//
CALSCALE:GREGORIAN
METHOD:PUBLISH
UID:910296b8-2137-4ce5-bc9c-fea628c8d9dc
X-WR-CALDESC:
X-WR-RELCALID:2e89fcd60c40f72da476af1d6cf648bb
X-WR-TIMEZONE:America/Chicago
BEGIN:VTIMEZONE
TZID:America/Chicago
BEGIN:STANDARD
TZNAME:CST
DTSTART:20231105T020000
TZOFFSETFROM:-0500
TZOFFSETTO:-0600
RDATE:20241103T020000
RDATE:20251102T020000
END:STANDARD
BEGIN:DAYLIGHT
TZNAME:CDT
DTSTART:20240310T020000
TZOFFSETFROM:-0600
TZOFFSETTO:-0500
RDATE:20250309T020000
RDATE:20260308T020000
END:DAYLIGHT
END:VTIMEZONE
BEGIN:VEVENT
UID:9c015190-1b29-4c1e-a105-d6b055dedc75
DTSTAMP:20260422T034745Z
DESCRIPTION:
DTSTART;TZID=America/Chicago:20241028T050000
DTEND;TZID=America/Chicago:20241101T050001
LOCATION:1217 West Keetoowah\, Tahlequah\, OK 74464 US
SUMMARY:Construction of House #35
END:VEVENT
END:VCALENDAR
