BEGIN:VCALENDAR
VERSION:2.0
PRODID:-//tahlequahhabitat.org//NONSGML kigkonsult.se iCalcreator 2.30.10//
CALSCALE:GREGORIAN
METHOD:PUBLISH
UID:73a78b31-9a2f-45cb-a14a-107034446e25
X-WR-CALDESC:
X-WR-RELCALID:6928b7d542e0cfa4d0b05bd1cc86a69a
X-WR-TIMEZONE:America/Chicago
BEGIN:VTIMEZONE
TZID:America/Chicago
BEGIN:STANDARD
TZNAME:CST
DTSTART:20231105T020000
TZOFFSETFROM:-0500
TZOFFSETTO:-0600
RDATE:20241103T020000
RDATE:20251102T020000
END:STANDARD
BEGIN:DAYLIGHT
TZNAME:CDT
DTSTART:20240310T020000
TZOFFSETFROM:-0600
TZOFFSETTO:-0500
RDATE:20250309T020000
RDATE:20260308T020000
END:DAYLIGHT
END:VTIMEZONE
BEGIN:VEVENT
UID:a6072d9e-5895-43ed-9ace-96548087ff00
DTSTAMP:20260422T034448Z
DESCRIPTION:
DTSTART;TZID=America/Chicago:20241104T050000
DTEND;TZID=America/Chicago:20241108T050001
LOCATION:1217 West Keetoowah\, Tahlequah\, OK 74464 US
SUMMARY:Construction of House #35
END:VEVENT
END:VCALENDAR
