BEGIN:VCALENDAR
VERSION:2.0
PRODID:-//tahlequahhabitat.org//NONSGML kigkonsult.se iCalcreator 2.30.10//
CALSCALE:GREGORIAN
METHOD:PUBLISH
UID:3c8171ea-b365-4ee1-ae8f-7ac5218fd554
X-WR-CALDESC:
X-WR-RELCALID:ed38a912be0259dde512e67f7ff40e5d
X-WR-TIMEZONE:America/Chicago
BEGIN:VTIMEZONE
TZID:America/Chicago
BEGIN:STANDARD
TZNAME:CST
DTSTART:20241103T020000
TZOFFSETFROM:-0500
TZOFFSETTO:-0600
RDATE:20251102T020000
END:STANDARD
BEGIN:DAYLIGHT
TZNAME:CDT
DTSTART:20240310T020000
TZOFFSETFROM:-0600
TZOFFSETTO:-0500
RDATE:20250309T020000
RDATE:20260308T020000
END:DAYLIGHT
END:VTIMEZONE
BEGIN:VEVENT
UID:da8ab020-face-4859-b2c9-77e5e34ef78d
DTSTAMP:20260422T021251Z
DESCRIPTION:
DTSTART;TZID=America/Chicago:20241202T050000
DTEND;TZID=America/Chicago:20241206T050001
LOCATION:1217 West Keetoowah\, Tahlequah\, OK 74464 US
SUMMARY:Construction of House #35
END:VEVENT
END:VCALENDAR
