BEGIN:VCALENDAR
VERSION:2.0
PRODID:-//tahlequahhabitat.org//NONSGML kigkonsult.se iCalcreator 2.30.10//
CALSCALE:GREGORIAN
METHOD:PUBLISH
UID:62f71b1c-4150-47fc-97cf-1a0a80e6ecee
X-WR-CALDESC:
X-WR-RELCALID:005d012f6f41fe1759d5ca1161b552de
X-WR-TIMEZONE:America/Chicago
BEGIN:VTIMEZONE
TZID:America/Chicago
BEGIN:STANDARD
TZNAME:CST
DTSTART:20241103T020000
TZOFFSETFROM:-0500
TZOFFSETTO:-0600
RDATE:20251102T020000
END:STANDARD
BEGIN:DAYLIGHT
TZNAME:CDT
DTSTART:20240310T020000
TZOFFSETFROM:-0600
TZOFFSETTO:-0500
RDATE:20250309T020000
RDATE:20260308T020000
END:DAYLIGHT
END:VTIMEZONE
BEGIN:VEVENT
UID:1c6add35-6bcd-4e94-8704-6052e66cc918
DTSTAMP:20260422T015303Z
DESCRIPTION:
DTSTART;TZID=America/Chicago:20241203T050000
DTEND;TZID=America/Chicago:20241203T050001
LOCATION:
SUMMARY:GivingTuesday
END:VEVENT
END:VCALENDAR
