BEGIN:VCALENDAR
VERSION:2.0
PRODID:-//tahlequahhabitat.org//NONSGML kigkonsult.se iCalcreator 2.30.10//
CALSCALE:GREGORIAN
METHOD:PUBLISH
UID:051dbeb8-815c-4c80-8e46-ecf21fb881a1
X-WR-CALDESC:
X-WR-RELCALID:9a8b0bf98d647d9c44eb3a8400f54494
X-WR-TIMEZONE:America/Chicago
BEGIN:VTIMEZONE
TZID:America/Chicago
BEGIN:STANDARD
TZNAME:CST
DTSTART:20241103T020000
TZOFFSETFROM:-0500
TZOFFSETTO:-0600
RDATE:20251102T020000
END:STANDARD
BEGIN:DAYLIGHT
TZNAME:CDT
DTSTART:20240310T020000
TZOFFSETFROM:-0600
TZOFFSETTO:-0500
RDATE:20250309T020000
RDATE:20260308T020000
END:DAYLIGHT
END:VTIMEZONE
BEGIN:VEVENT
UID:bcd2e64d-7bb7-4dc6-9093-dec8ccc6a23b
DTSTAMP:20260422T014923Z
DESCRIPTION:
DTSTART;TZID=America/Chicago:20241205T050000
DTEND;TZID=America/Chicago:20241205T050001
LOCATION:
SUMMARY:International Volunteer Day
END:VEVENT
END:VCALENDAR
