BEGIN:VCALENDAR
VERSION:2.0
PRODID:-//tahlequahhabitat.org//NONSGML kigkonsult.se iCalcreator 2.30.10//
CALSCALE:GREGORIAN
METHOD:PUBLISH
UID:108b6809-1de4-4706-8d65-ca99391e805b
X-WR-CALDESC:
X-WR-RELCALID:d717a82084818d6942e236f782693900
X-WR-TIMEZONE:America/Chicago
BEGIN:VTIMEZONE
TZID:America/Chicago
BEGIN:STANDARD
TZNAME:CST
DTSTART:20241103T020000
TZOFFSETFROM:-0500
TZOFFSETTO:-0600
RDATE:20251102T020000
END:STANDARD
BEGIN:DAYLIGHT
TZNAME:CDT
DTSTART:20240310T020000
TZOFFSETFROM:-0600
TZOFFSETTO:-0500
RDATE:20250309T020000
RDATE:20260308T020000
END:DAYLIGHT
END:VTIMEZONE
BEGIN:VEVENT
UID:0ce3e2ec-37ec-4ef6-a0dd-46fbe86e9c6f
DTSTAMP:20260422T014903Z
DESCRIPTION:
DTSTART;TZID=America/Chicago:20241209T050000
DTEND;TZID=America/Chicago:20241213T050001
LOCATION:1217 West Keetoowah\, Tahlequah\, OK 74464 US
SUMMARY:Construction of House #35
END:VEVENT
END:VCALENDAR
