BEGIN:VCALENDAR
VERSION:2.0
PRODID:-//tahlequahhabitat.org//NONSGML kigkonsult.se iCalcreator 2.30.10//
CALSCALE:GREGORIAN
METHOD:PUBLISH
UID:1562b927-8c54-458c-bdb3-b3fe0571041e
X-WR-CALDESC:
X-WR-RELCALID:e5a9302ace4e92bd17a92411c63010a4
X-WR-TIMEZONE:America/Chicago
BEGIN:VTIMEZONE
TZID:America/Chicago
BEGIN:STANDARD
TZNAME:CST
DTSTART:20241103T020000
TZOFFSETFROM:-0500
TZOFFSETTO:-0600
RDATE:20251102T020000
END:STANDARD
BEGIN:DAYLIGHT
TZNAME:CDT
DTSTART:20240310T020000
TZOFFSETFROM:-0600
TZOFFSETTO:-0500
RDATE:20250309T020000
RDATE:20260308T020000
END:DAYLIGHT
END:VTIMEZONE
BEGIN:VEVENT
UID:678ad465-bb70-4765-895e-847c0f8d7162
DTSTAMP:20260422T015637Z
DESCRIPTION:
DTSTART;TZID=America/Chicago:20241219T050000
DTEND;TZID=America/Chicago:20241221T050001
LOCATION:
SUMMARY:Coloring Contest at the ReStore Rack
END:VEVENT
END:VCALENDAR
