BEGIN:VCALENDAR
VERSION:2.0
PRODID:-//tahlequahhabitat.org//NONSGML kigkonsult.se iCalcreator 2.30.10//
CALSCALE:GREGORIAN
METHOD:PUBLISH
UID:5f81ee10-3765-42fe-b0b7-f553b4e091c8
X-WR-CALDESC:
X-WR-RELCALID:397d3f352df6d2d53f1c6371237ccfee
X-WR-TIMEZONE:America/Chicago
BEGIN:VTIMEZONE
TZID:America/Chicago
BEGIN:STANDARD
TZNAME:CST
DTSTART:20241103T020000
TZOFFSETFROM:-0500
TZOFFSETTO:-0600
RDATE:20251102T020000
END:STANDARD
BEGIN:DAYLIGHT
TZNAME:CDT
DTSTART:20240310T020000
TZOFFSETFROM:-0600
TZOFFSETTO:-0500
RDATE:20250309T020000
RDATE:20260308T020000
END:DAYLIGHT
END:VTIMEZONE
BEGIN:VEVENT
UID:a0e61dd9-e920-4dac-ae09-d76373604906
DTSTAMP:20260422T020245Z
DESCRIPTION:
DTSTART;TZID=America/Chicago:20241223T050000
DTEND;TZID=America/Chicago:20241223T050001
LOCATION:
SUMMARY:Coloring Contest at the ReStore Rack
END:VEVENT
END:VCALENDAR
