BEGIN:VCALENDAR
VERSION:2.0
PRODID:-//tahlequahhabitat.org//NONSGML kigkonsult.se iCalcreator 2.30.10//
CALSCALE:GREGORIAN
METHOD:PUBLISH
UID:7b357b5d-6564-4eaa-b1d2-71f68c1916f5
X-WR-CALDESC:
X-WR-RELCALID:3bd7f15850c24a26cf11f91f6ed5ed40
X-WR-TIMEZONE:America/Chicago
BEGIN:VTIMEZONE
TZID:America/Chicago
BEGIN:STANDARD
TZNAME:CST
DTSTART:20241103T020000
TZOFFSETFROM:-0500
TZOFFSETTO:-0600
RDATE:20251102T020000
END:STANDARD
BEGIN:DAYLIGHT
TZNAME:CDT
DTSTART:20240310T020000
TZOFFSETFROM:-0600
TZOFFSETTO:-0500
RDATE:20250309T020000
RDATE:20260308T020000
END:DAYLIGHT
END:VTIMEZONE
BEGIN:VEVENT
UID:1f6eec8d-e74f-4755-a0f8-41d2fa9bc035
DTSTAMP:20260422T014821Z
DESCRIPTION:
DTSTART;TZID=America/Chicago:20241224T050000
DTEND;TZID=America/Chicago:20241225T050001
LOCATION:
SUMMARY:Office Closed Today
END:VEVENT
END:VCALENDAR
