BEGIN:VCALENDAR
VERSION:2.0
PRODID:-//tahlequahhabitat.org//NONSGML kigkonsult.se iCalcreator 2.30.10//
CALSCALE:GREGORIAN
METHOD:PUBLISH
UID:98f21043-1642-4580-8c35-c434cfd1aa15
X-WR-CALDESC:
X-WR-RELCALID:c7cdefebc65f905e80f60a15e23b3aa5
X-WR-TIMEZONE:America/Chicago
BEGIN:VTIMEZONE
TZID:America/Chicago
BEGIN:STANDARD
TZNAME:CST
DTSTART:20241103T020000
TZOFFSETFROM:-0500
TZOFFSETTO:-0600
RDATE:20251102T020000
END:STANDARD
BEGIN:DAYLIGHT
TZNAME:CDT
DTSTART:20240310T020000
TZOFFSETFROM:-0600
TZOFFSETTO:-0500
RDATE:20250309T020000
RDATE:20260308T020000
END:DAYLIGHT
END:VTIMEZONE
BEGIN:VEVENT
UID:fbd182f0-8d23-4770-9007-60c3ecd2c3e2
DTSTAMP:20260422T020824Z
DESCRIPTION:
DTSTART;TZID=America/Chicago:20241226T050000
DTEND;TZID=America/Chicago:20241228T050001
LOCATION:
SUMMARY:Coloring Contest at the ReStore Rack
END:VEVENT
END:VCALENDAR
