BEGIN:VCALENDAR
VERSION:2.0
PRODID:-//tahlequahhabitat.org//NONSGML kigkonsult.se iCalcreator 2.30.10//
CALSCALE:GREGORIAN
METHOD:PUBLISH
UID:607b3679-ac05-418e-8b1c-74b531d8a827
X-WR-CALDESC:
X-WR-RELCALID:6581ed9a7652fb1455d5efba49c08aa7
X-WR-TIMEZONE:America/Chicago
BEGIN:VTIMEZONE
TZID:America/Chicago
BEGIN:STANDARD
TZNAME:CST
DTSTART:20241103T020000
TZOFFSETFROM:-0500
TZOFFSETTO:-0600
RDATE:20251102T020000
END:STANDARD
BEGIN:DAYLIGHT
TZNAME:CDT
DTSTART:20240310T020000
TZOFFSETFROM:-0600
TZOFFSETTO:-0500
RDATE:20250309T020000
RDATE:20260308T020000
END:DAYLIGHT
END:VTIMEZONE
BEGIN:VEVENT
UID:9309ebe6-e138-44d4-a093-65c9ddc4ba16
DTSTAMP:20260422T020425Z
DESCRIPTION:
DTSTART;TZID=America/Chicago:20241230T050000
DTEND;TZID=America/Chicago:20241230T050001
LOCATION:
SUMMARY:Coloring Contest at the ReStore Rack
END:VEVENT
END:VCALENDAR
