BEGIN:VCALENDAR
VERSION:2.0
PRODID:-//tahlequahhabitat.org//NONSGML kigkonsult.se iCalcreator 2.30.10//
CALSCALE:GREGORIAN
METHOD:PUBLISH
UID:9c6c8f2e-79e9-4c7a-bb37-866c71fa9b20
X-WR-CALDESC:
X-WR-RELCALID:2b7cb911a56ad717620ace0feff1751f
X-WR-TIMEZONE:America/Chicago
BEGIN:VTIMEZONE
TZID:America/Chicago
BEGIN:STANDARD
TZNAME:CST
DTSTART:20241103T020000
TZOFFSETFROM:-0500
TZOFFSETTO:-0600
RDATE:20251102T020000
END:STANDARD
BEGIN:DAYLIGHT
TZNAME:CDT
DTSTART:20240310T020000
TZOFFSETFROM:-0600
TZOFFSETTO:-0500
RDATE:20250309T020000
RDATE:20260308T020000
END:DAYLIGHT
END:VTIMEZONE
BEGIN:VEVENT
UID:9f830073-6d5a-42ca-a9dd-99eb8d44d66f
DTSTAMP:20260421T223716Z
DESCRIPTION:
DTSTART;TZID=America/Chicago:20250207T100000
DTEND;TZID=America/Chicago:20250207T120000
LOCATION:
SUMMARY:All About Credit Class
END:VEVENT
END:VCALENDAR
