BEGIN:VCALENDAR
VERSION:2.0
PRODID:-//tahlequahhabitat.org//NONSGML kigkonsult.se iCalcreator 2.30.10//
CALSCALE:GREGORIAN
METHOD:PUBLISH
UID:513aebb4-9656-4019-9ec3-312990846e50
X-WR-CALDESC:
X-WR-RELCALID:c0e23be47ed1357febbb278f95df1e5c
X-WR-TIMEZONE:America/Chicago
BEGIN:VTIMEZONE
TZID:America/Chicago
BEGIN:STANDARD
TZNAME:CST
DTSTART:20241103T020000
TZOFFSETFROM:-0500
TZOFFSETTO:-0600
RDATE:20251102T020000
END:STANDARD
BEGIN:DAYLIGHT
TZNAME:CDT
DTSTART:20240310T020000
TZOFFSETFROM:-0600
TZOFFSETTO:-0500
RDATE:20250309T020000
RDATE:20260308T020000
END:DAYLIGHT
END:VTIMEZONE
BEGIN:VEVENT
UID:1fe400c5-ec06-4ab4-8a63-ff7aadc5c900
DTSTAMP:20260421T210200Z
DESCRIPTION:
DTSTART;TZID=America/Chicago:20250301T050000
DTEND;TZID=America/Chicago:20250301T050001
LOCATION:
SUMMARY:Women Build 2025
END:VEVENT
END:VCALENDAR
