BEGIN:VCALENDAR
VERSION:2.0
PRODID:-//tahlequahhabitat.org//NONSGML kigkonsult.se iCalcreator 2.30.10//
CALSCALE:GREGORIAN
METHOD:PUBLISH
UID:cca72137-4fc4-4003-ba98-8d2d197de8a8
X-WR-CALDESC:
X-WR-RELCALID:ae96cc539b453ecc518cbfe57cb780f9
X-WR-TIMEZONE:America/Chicago
BEGIN:VTIMEZONE
TZID:America/Chicago
BEGIN:STANDARD
TZNAME:CST
DTSTART:20241103T020000
TZOFFSETFROM:-0500
TZOFFSETTO:-0600
RDATE:20251102T020000
END:STANDARD
BEGIN:DAYLIGHT
TZNAME:CDT
DTSTART:20240310T020000
TZOFFSETFROM:-0600
TZOFFSETTO:-0500
RDATE:20250309T020000
RDATE:20260308T020000
END:DAYLIGHT
END:VTIMEZONE
BEGIN:VEVENT
UID:e8b8599d-d335-4d69-a7a4-e8261a298a06
DTSTAMP:20260421T210005Z
DESCRIPTION:
DTSTART;TZID=America/Chicago:20250310T050000
DTEND;TZID=America/Chicago:20250315T050001
LOCATION:
SUMMARY:Coloring Contest at the ReStore Rack
END:VEVENT
END:VCALENDAR
