BEGIN:VCALENDAR
VERSION:2.0
PRODID:-//tahlequahhabitat.org//NONSGML kigkonsult.se iCalcreator 2.30.10//
CALSCALE:GREGORIAN
METHOD:PUBLISH
UID:d65df9da-ee9c-4cb8-8047-683a38f1406c
X-WR-CALDESC:
X-WR-RELCALID:51faea81607154767dc65654ad942d9f
X-WR-TIMEZONE:America/Chicago
BEGIN:VTIMEZONE
TZID:America/Chicago
BEGIN:STANDARD
TZNAME:CST
DTSTART:20241103T020000
TZOFFSETFROM:-0500
TZOFFSETTO:-0600
RDATE:20251102T020000
END:STANDARD
BEGIN:DAYLIGHT
TZNAME:CDT
DTSTART:20250309T020000
TZOFFSETFROM:-0600
TZOFFSETTO:-0500
RDATE:20260308T020000
END:DAYLIGHT
END:VTIMEZONE
BEGIN:VEVENT
UID:d0a81633-44a7-4526-b023-bf09959c0fcf
DTSTAMP:20260421T210219Z
DESCRIPTION:
DTSTART;TZID=America/Chicago:20250315T050000
DTEND;TZID=America/Chicago:20250315T050001
LOCATION:
SUMMARY:Women Build 2025
END:VEVENT
END:VCALENDAR
