BEGIN:VCALENDAR
VERSION:2.0
PRODID:-//tahlequahhabitat.org//NONSGML kigkonsult.se iCalcreator 2.30.10//
CALSCALE:GREGORIAN
METHOD:PUBLISH
UID:2c6190a8-30b3-4f66-b4cc-3ee4a5949125
X-WR-CALDESC:
X-WR-RELCALID:3e8be3d17102f84c34677d90faab6f0a
X-WR-TIMEZONE:America/Chicago
BEGIN:VTIMEZONE
TZID:America/Chicago
BEGIN:STANDARD
TZNAME:CST
DTSTART:20241103T020000
TZOFFSETFROM:-0500
TZOFFSETTO:-0600
RDATE:20251102T020000
END:STANDARD
BEGIN:DAYLIGHT
TZNAME:CDT
DTSTART:20250309T020000
TZOFFSETFROM:-0600
TZOFFSETTO:-0500
RDATE:20260308T020000
END:DAYLIGHT
END:VTIMEZONE
BEGIN:VEVENT
UID:4144dcfb-2805-4a36-a860-d5dc8dd325f6
DTSTAMP:20260421T211034Z
DESCRIPTION:
DTSTART;TZID=America/Chicago:20250321T100000
DTEND;TZID=America/Chicago:20250321T120000
LOCATION:
SUMMARY:All About Small Loans Class
END:VEVENT
END:VCALENDAR
