BEGIN:VCALENDAR
VERSION:2.0
PRODID:-//tahlequahhabitat.org//NONSGML kigkonsult.se iCalcreator 2.30.10//
CALSCALE:GREGORIAN
METHOD:PUBLISH
UID:e1c37756-f580-435f-b8ed-f1948c43ca53
X-WR-CALDESC:
X-WR-RELCALID:2eb0f42376f620ba017b8ed16b28a4cd
X-WR-TIMEZONE:America/Chicago
BEGIN:VTIMEZONE
TZID:America/Chicago
BEGIN:STANDARD
TZNAME:CST
DTSTART:20241103T020000
TZOFFSETFROM:-0500
TZOFFSETTO:-0600
RDATE:20251102T020000
END:STANDARD
BEGIN:DAYLIGHT
TZNAME:CDT
DTSTART:20250309T020000
TZOFFSETFROM:-0600
TZOFFSETTO:-0500
RDATE:20260308T020000
END:DAYLIGHT
END:VTIMEZONE
BEGIN:VEVENT
UID:c728cb72-37c7-481e-9824-6b51bfc5b4a9
DTSTAMP:20260421T185537Z
DESCRIPTION:
DTSTART;TZID=America/Chicago:20250401T050000
DTEND;TZID=America/Chicago:20250401T050001
LOCATION:
SUMMARY:ReStore Rack Anniversary
END:VEVENT
END:VCALENDAR
