BEGIN:VCALENDAR
VERSION:2.0
PRODID:-//tahlequahhabitat.org//NONSGML kigkonsult.se iCalcreator 2.30.10//
CALSCALE:GREGORIAN
METHOD:PUBLISH
UID:b2facbb3-3069-4a9c-9db9-8da0b850a4e3
X-WR-CALDESC:
X-WR-RELCALID:4d10b3a7a71db7e476830f25c47967cb
X-WR-TIMEZONE:America/Chicago
BEGIN:VTIMEZONE
TZID:America/Chicago
BEGIN:STANDARD
TZNAME:CST
DTSTART:20241103T020000
TZOFFSETFROM:-0500
TZOFFSETTO:-0600
RDATE:20251102T020000
END:STANDARD
BEGIN:DAYLIGHT
TZNAME:CDT
DTSTART:20250309T020000
TZOFFSETFROM:-0600
TZOFFSETTO:-0500
RDATE:20260308T020000
END:DAYLIGHT
END:VTIMEZONE
BEGIN:VEVENT
UID:485ae5fe-257d-4ac2-9295-d05a90fc8f78
DTSTAMP:20260421T191550Z
DESCRIPTION:
DTSTART;TZID=America/Chicago:20250401T050000
DTEND;TZID=America/Chicago:20250401T050001
LOCATION:
SUMMARY:ReStore Rack Celebration Sale!
END:VEVENT
END:VCALENDAR
