BEGIN:VCALENDAR
VERSION:2.0
PRODID:-//tahlequahhabitat.org//NONSGML kigkonsult.se iCalcreator 2.30.10//
CALSCALE:GREGORIAN
METHOD:PUBLISH
UID:636b85f6-19fd-411e-a76a-38e2e1ca8d42
X-WR-CALDESC:
X-WR-RELCALID:71a148981b0afb4d1ffa968d020cb703
X-WR-TIMEZONE:America/Chicago
BEGIN:VTIMEZONE
TZID:America/Chicago
BEGIN:STANDARD
TZNAME:CST
DTSTART:20241103T020000
TZOFFSETFROM:-0500
TZOFFSETTO:-0600
RDATE:20251102T020000
END:STANDARD
BEGIN:DAYLIGHT
TZNAME:CDT
DTSTART:20250309T020000
TZOFFSETFROM:-0600
TZOFFSETTO:-0500
RDATE:20260308T020000
END:DAYLIGHT
END:VTIMEZONE
BEGIN:VEVENT
UID:f8d26c32-1ee3-423f-a37f-c1db9f2ed54f
DTSTAMP:20260421T185633Z
DESCRIPTION:
DTSTART;TZID=America/Chicago:20250412T050000
DTEND;TZID=America/Chicago:20250412T050001
LOCATION:
SUMMARY:Bikers Build Day
END:VEVENT
END:VCALENDAR
