BEGIN:VCALENDAR
VERSION:2.0
PRODID:-//tahlequahhabitat.org//NONSGML kigkonsult.se iCalcreator 2.30.10//
CALSCALE:GREGORIAN
METHOD:PUBLISH
UID:e5645ed7-a9f9-47dd-880a-2ecbfa6c65b8
X-WR-CALDESC:
X-WR-RELCALID:a6b0aa022ca3f2be8c42153b9bd7cfd4
X-WR-TIMEZONE:America/Chicago
BEGIN:VTIMEZONE
TZID:America/Chicago
BEGIN:STANDARD
TZNAME:CST
DTSTART:20241103T020000
TZOFFSETFROM:-0500
TZOFFSETTO:-0600
RDATE:20251102T020000
END:STANDARD
BEGIN:DAYLIGHT
TZNAME:CDT
DTSTART:20250309T020000
TZOFFSETFROM:-0600
TZOFFSETTO:-0500
RDATE:20260308T020000
END:DAYLIGHT
END:VTIMEZONE
BEGIN:VEVENT
UID:3ced99f0-51f6-481b-b70b-8e743b82c6b2
DTSTAMP:20260421T191502Z
DESCRIPTION:
DTSTART;TZID=America/Chicago:20250419T050000
DTEND;TZID=America/Chicago:20250419T050001
LOCATION:
SUMMARY:Discount Easter Egg Hunt at the ReStore!
END:VEVENT
END:VCALENDAR
