BEGIN:VCALENDAR
VERSION:2.0
PRODID:-//tahlequahhabitat.org//NONSGML kigkonsult.se iCalcreator 2.30.10//
CALSCALE:GREGORIAN
METHOD:PUBLISH
UID:7a482c0d-38f8-4746-831a-a1c961c7da22
X-WR-CALDESC:
X-WR-RELCALID:18c1103d0771d5c5e6faa47aa5a6bf1b
X-WR-TIMEZONE:America/Chicago
BEGIN:VTIMEZONE
TZID:America/Chicago
BEGIN:STANDARD
TZNAME:CST
DTSTART:20241103T020000
TZOFFSETFROM:-0500
TZOFFSETTO:-0600
RDATE:20251102T020000
RDATE:20261101T020000
END:STANDARD
BEGIN:DAYLIGHT
TZNAME:CDT
DTSTART:20250309T020000
TZOFFSETFROM:-0600
TZOFFSETTO:-0500
RDATE:20260308T020000
END:DAYLIGHT
END:VTIMEZONE
BEGIN:VEVENT
UID:0874cf24-6558-4ac5-b31f-2fd8f8a6dcfe
DTSTAMP:20260421T173109Z
DESCRIPTION:
DTSTART;TZID=America/Chicago:20250503T050000
DTEND;TZID=America/Chicago:20250503T050001
LOCATION:
SUMMARY:Poker Run
END:VEVENT
END:VCALENDAR
