BEGIN:VCALENDAR
VERSION:2.0
PRODID:-//tahlequahhabitat.org//NONSGML kigkonsult.se iCalcreator 2.30.10//
CALSCALE:GREGORIAN
METHOD:PUBLISH
UID:5ddbb640-a4cc-46da-b816-358d8ef213ee
X-WR-CALDESC:
X-WR-RELCALID:9f1f4196ea7411f3bdc7270b6b54e835
X-WR-TIMEZONE:America/Chicago
BEGIN:VTIMEZONE
TZID:America/Chicago
BEGIN:STANDARD
TZNAME:CST
DTSTART:20241103T020000
TZOFFSETFROM:-0500
TZOFFSETTO:-0600
RDATE:20251102T020000
RDATE:20261101T020000
END:STANDARD
BEGIN:DAYLIGHT
TZNAME:CDT
DTSTART:20250309T020000
TZOFFSETFROM:-0600
TZOFFSETTO:-0500
RDATE:20260308T020000
END:DAYLIGHT
END:VTIMEZONE
BEGIN:VEVENT
UID:436216a4-ae37-4e20-bf32-f82e6cf39a2d
DTSTAMP:20260421T172849Z
DESCRIPTION:
DTSTART;TZID=America/Chicago:20250518T050000
DTEND;TZID=America/Chicago:20250518T050001
LOCATION:
SUMMARY:TAHFH Anniversary
END:VEVENT
END:VCALENDAR
