BEGIN:VCALENDAR
VERSION:2.0
PRODID:-//tahlequahhabitat.org//NONSGML kigkonsult.se iCalcreator 2.30.10//
CALSCALE:GREGORIAN
METHOD:PUBLISH
UID:4a4ea9eb-1677-4645-a98f-b1548dff9786
X-WR-CALDESC:
X-WR-RELCALID:8172077ffc5510f2ed55b45302eb2624
X-WR-TIMEZONE:America/Chicago
BEGIN:VTIMEZONE
TZID:America/Chicago
BEGIN:STANDARD
TZNAME:CST
DTSTART:20241103T020000
TZOFFSETFROM:-0500
TZOFFSETTO:-0600
RDATE:20251102T020000
RDATE:20261101T020000
END:STANDARD
BEGIN:DAYLIGHT
TZNAME:CDT
DTSTART:20250309T020000
TZOFFSETFROM:-0600
TZOFFSETTO:-0500
RDATE:20260308T020000
END:DAYLIGHT
END:VTIMEZONE
BEGIN:VEVENT
UID:4a139eda-05d1-4d17-a5dd-b8a4bec61479
DTSTAMP:20260421T155416Z
DESCRIPTION:
DTSTART;TZID=America/Chicago:20250621T130000
DTEND;TZID=America/Chicago:20250621T150000
LOCATION:816 South College Avenue\, Tahlequah\, OK 74464 US
SUMMARY:Preparing for Homeownership Financial Literacy Class
END:VEVENT
END:VCALENDAR
