BEGIN:VCALENDAR
VERSION:2.0
PRODID:-//tahlequahhabitat.org//NONSGML kigkonsult.se iCalcreator 2.30.10//
CALSCALE:GREGORIAN
METHOD:PUBLISH
UID:b8a9a3cc-59ec-46a0-a567-8b23bfe7fef7
X-WR-CALDESC:
X-WR-RELCALID:2c960a3b89187de42bc58872abac2542
X-WR-TIMEZONE:America/Chicago
BEGIN:VTIMEZONE
TZID:America/Chicago
BEGIN:STANDARD
TZNAME:CST
DTSTART:20241103T020000
TZOFFSETFROM:-0500
TZOFFSETTO:-0600
RDATE:20251102T020000
RDATE:20261101T020000
END:STANDARD
BEGIN:DAYLIGHT
TZNAME:CDT
DTSTART:20250309T020000
TZOFFSETFROM:-0600
TZOFFSETTO:-0500
RDATE:20260308T020000
END:DAYLIGHT
END:VTIMEZONE
BEGIN:VEVENT
UID:1666e0ca-2b05-4bc9-bd98-a10dd30be3cd
DTSTAMP:20260421T134413Z
DESCRIPTION:
DTSTART;TZID=America/Chicago:20250712T130000
DTEND;TZID=America/Chicago:20250712T153000
LOCATION:
SUMMARY:Youth Lego Build Competition\, Tahlequah Public Library
END:VEVENT
END:VCALENDAR
